BEGIN:VCALENDAR
VERSION:2.0
PRODID:-//Christusbund Winterbach - ECPv5.16.4.1//NONSGML v1.0//EN
CALSCALE:GREGORIAN
METHOD:PUBLISH
X-WR-CALNAME:Christusbund Winterbach
X-ORIGINAL-URL:https://christusbund-winterbach.de
X-WR-CALDESC:Veranstaltungen für Christusbund Winterbach
BEGIN:VTIMEZONE
TZID:Europe/Berlin
BEGIN:DAYLIGHT
TZOFFSETFROM:+0100
TZOFFSETTO:+0200
TZNAME:CEST
DTSTART:20190331T010000
END:DAYLIGHT
BEGIN:STANDARD
TZOFFSETFROM:+0200
TZOFFSETTO:+0100
TZNAME:CET
DTSTART:20191027T010000
END:STANDARD
END:VTIMEZONE
BEGIN:VEVENT
DTSTART;TZID=Europe/Berlin:20191120T173000
DTEND;TZID=Europe/Berlin:20191120T190000
DTSTAMP:20260421T142512
CREATED:20191008T191046Z
LAST-MODIFIED:20191008T191046Z
UID:5115-1574271000-1574276400@christusbund-winterbach.de
SUMMARY:Mädchenjungschar Volltreffer
DESCRIPTION:JA/NEIN-Stuhl
URL:https://christusbund-winterbach.de/termine/maedchenjungschar-volltreffer-25/
LOCATION:Christusbund Winterbach – Gruppenraum\, Oberdorf 43\, Winterbach\, 73650\, Deutschland
CATEGORIES:Mädchenjungschar
END:VEVENT
END:VCALENDAR